Package: AnVIL Version: 1.21.10 Command: /Library/Frameworks/R.framework/Resources/bin/R CMD check --install=check:AnVIL.install-out.txt --library=/Library/Frameworks/R.framework/Resources/library --no-vignettes --timings AnVIL_1.21.10.tar.gz StartedAt: 2025-10-19 18:25:23 -0400 (Sun, 19 Oct 2025) EndedAt: 2025-10-19 18:25:44 -0400 (Sun, 19 Oct 2025) EllapsedTime: 20.3 seconds RetCode: 0 Status: OK CheckDir: AnVIL.Rcheck Warnings: 0