Package: AnVIL Version: 1.21.10 Maintainer: Marcel Ramos MaintainerEmail: marcel.ramos at sph.cuny.edu git_url: https://git.bioconductor.org/packages/AnVIL git_branch: devel git_last_commit: 1e39a3f git_last_commit_date: 2025-09-22 10:20:32 -0400 (Mon, 22 Sep 2025)