Package: AlpsNMR Version: 4.11.1 Command: /home/biocbuild/R/R/bin/R CMD INSTALL AlpsNMR StartedAt: 2025-10-23 20:27:11 -0000 (Thu, 23 Oct 2025) EndedAt: 2025-10-23 20:27:38 -0000 (Thu, 23 Oct 2025) EllapsedTime: 26.3 seconds RetCode: 0 Status: OK