Package: AlpsNMR Version: 4.11.1 Command: /home/biocbuild/R/R/bin/R CMD build --keep-empty-dirs --no-resave-data AlpsNMR StartedAt: 2025-10-23 21:40:19 -0000 (Thu, 23 Oct 2025) EndedAt: 2025-10-23 21:42:40 -0000 (Thu, 23 Oct 2025) EllapsedTime: 141.1 seconds RetCode: 1 Status: ERROR PackageFile: None PackageFileSize: NA