Package: AlpsNMR Version: 4.11.1 Command: /Library/Frameworks/R.framework/Resources/bin/R CMD INSTALL AlpsNMR StartedAt: 2025-10-01 15:12:13 -0400 (Wed, 01 Oct 2025) EndedAt: 2025-10-01 15:12:46 -0400 (Wed, 01 Oct 2025) EllapsedTime: 33.3 seconds RetCode: 0 Status: OK