Package: AlpsNMR Version: 4.11.1 Command: /Library/Frameworks/R.framework/Resources/bin/R CMD check --install=check:AlpsNMR.install-out.txt --library=/Library/Frameworks/R.framework/Resources/library --no-vignettes --timings AlpsNMR_4.11.1.tar.gz StartedAt: 2025-10-02 19:38:25 -0400 (Thu, 02 Oct 2025) EndedAt: 2025-10-02 19:42:17 -0400 (Thu, 02 Oct 2025) EllapsedTime: 232.1 seconds RetCode: 0 Status: OK CheckDir: AlpsNMR.Rcheck Warnings: 0