Package: AlpsNMR Version: 4.11.1 Command: rm -rf AlpsNMR.buildbin-libdir && mkdir AlpsNMR.buildbin-libdir && /Users/biocbuild/BBS/utils/build-universal.sh AlpsNMR_4.11.1.tar.gz /Library/Frameworks/R.framework/Resources/bin/R AlpsNMR.buildbin-libdir StartedAt: 2025-10-02 01:37:38 -0400 (Thu, 02 Oct 2025) EndedAt: 2025-10-02 01:38:01 -0400 (Thu, 02 Oct 2025) EllapsedTime: 23.1 seconds RetCode: 0 Status: OK PackageFile: AlpsNMR_4.11.1.tgz PackageFileSize: 4.185 MiB