Package: AlpsNMR Version: 4.12.0 Command: /Library/Frameworks/R.framework/Resources/bin/R CMD build --keep-empty-dirs --no-resave-data AlpsNMR StartedAt: 2025-11-17 18:58:25 -0500 (Mon, 17 Nov 2025) EndedAt: 2025-11-17 18:59:16 -0500 (Mon, 17 Nov 2025) EllapsedTime: 51.3 seconds RetCode: 0 Status: OK PackageFile: AlpsNMR_4.12.0.tar.gz PackageFileSize: 3.7 MiB