Package: AlphaBeta Version: 1.23.0 Command: F:\biocbuild\bbs-3.22-bioc\R\bin\R.exe CMD check --no-multiarch --install=check:AlphaBeta.install-out.txt --library=F:\biocbuild\bbs-3.22-bioc\R\library --no-vignettes --timings AlphaBeta_1.23.0.tar.gz StartedAt: 2025-08-15 00:26:03 -0400 (Fri, 15 Aug 2025) EndedAt: 2025-08-15 00:35:03 -0400 (Fri, 15 Aug 2025) EllapsedTime: 540.1 seconds RetCode: 0 Status: OK CheckDir: AlphaBeta.Rcheck Warnings: 0