Package: AlphaBeta Version: 1.23.0 Command: rm -rf AlphaBeta.buildbin-libdir && mkdir AlphaBeta.buildbin-libdir && F:\biocbuild\bbs-3.22-bioc\R\bin\R.exe CMD INSTALL --build --library=AlphaBeta.buildbin-libdir AlphaBeta_1.23.0.tar.gz StartedAt: 2025-08-15 09:42:46 -0400 (Fri, 15 Aug 2025) EndedAt: 2025-08-15 09:43:22 -0400 (Fri, 15 Aug 2025) EllapsedTime: 36.1 seconds RetCode: 0 Status: OK PackageFile: AlphaBeta_1.23.0.zip PackageFileSize: 2.673 MiB