Package: AlphaBeta Version: 1.24.0 Command: /Library/Frameworks/R.framework/Resources/bin/R CMD INSTALL AlphaBeta StartedAt: 2025-11-10 15:04:59 -0500 (Mon, 10 Nov 2025) EndedAt: 2025-11-10 15:05:08 -0500 (Mon, 10 Nov 2025) EllapsedTime: 8.9 seconds RetCode: 0 Status: OK