Package: AlphaBeta Version: 1.24.0 Command: /Library/Frameworks/R.framework/Resources/bin/R CMD build --keep-empty-dirs --no-resave-data AlphaBeta StartedAt: 2025-11-10 15:36:50 -0500 (Mon, 10 Nov 2025) EndedAt: 2025-11-10 15:38:33 -0500 (Mon, 10 Nov 2025) EllapsedTime: 102.2 seconds RetCode: 0 Status: OK PackageFile: AlphaBeta_1.24.0.tar.gz PackageFileSize: 2.505 MiB