Package: AlphaBeta Version: 1.24.0 Command: /Library/Frameworks/R.framework/Resources/bin/R CMD build --keep-empty-dirs --no-resave-data AlphaBeta StartedAt: 2025-11-17 18:58:05 -0500 (Mon, 17 Nov 2025) EndedAt: 2025-11-17 18:59:50 -0500 (Mon, 17 Nov 2025) EllapsedTime: 104.7 seconds RetCode: 0 Status: OK PackageFile: AlphaBeta_1.24.0.tar.gz PackageFileSize: 2.505 MiB