Package: AlphaBeta Version: 1.24.0 Command: rm -rf AlphaBeta.buildbin-libdir && mkdir AlphaBeta.buildbin-libdir && /Users/biocbuild/BBS/utils/build-universal.sh AlphaBeta_1.24.0.tar.gz /Library/Frameworks/R.framework/Resources/bin/R AlphaBeta.buildbin-libdir StartedAt: 2025-11-18 15:05:01 -0500 (Tue, 18 Nov 2025) EndedAt: 2025-11-18 15:05:09 -0500 (Tue, 18 Nov 2025) EllapsedTime: 8.1 seconds RetCode: 0 Status: OK PackageFile: AlphaBeta_1.24.0.tgz PackageFileSize: 2.703 MiB