Package: AlphaBeta Version: 1.24.0 Maintainer: Yadollah Shahryary Dizaji MaintainerEmail: shahryary at gmail.com git_url: https://git.bioconductor.org/packages/AlphaBeta git_branch: RELEASE_3_22 git_last_commit: 15e89c7 git_last_commit_date: 2025-10-29 10:53:31 -0500 (Wed, 29 Oct 2025)