Package: AllelicImbalance Version: 1.47.0 Command: F:\biocbuild\bbs-3.22-bioc\R\bin\R.exe CMD check --no-multiarch --install=check:AllelicImbalance.install-out.txt --library=F:\biocbuild\bbs-3.22-bioc\R\library --no-vignettes --timings AllelicImbalance_1.47.0.tar.gz StartedAt: 2025-08-15 00:25:59 -0400 (Fri, 15 Aug 2025) EndedAt: 2025-08-15 00:36:04 -0400 (Fri, 15 Aug 2025) EllapsedTime: 605.0 seconds RetCode: 0 Status: OK CheckDir: AllelicImbalance.Rcheck Warnings: 0