Package: AllelicImbalance Version: 1.48.0 Command: /Library/Frameworks/R.framework/Resources/bin/R CMD INSTALL AllelicImbalance StartedAt: 2025-10-31 15:53:44 -0400 (Fri, 31 Oct 2025) EndedAt: 2025-10-31 15:54:59 -0400 (Fri, 31 Oct 2025) EllapsedTime: 75.7 seconds RetCode: 0 Status: OK