Package: AgiMicroRna Version: 2.60.0 Command: /Library/Frameworks/R.framework/Resources/bin/R CMD INSTALL AgiMicroRna StartedAt: 2025-11-02 15:53:58 -0500 (Sun, 02 Nov 2025) EndedAt: 2025-11-02 15:55:23 -0500 (Sun, 02 Nov 2025) EllapsedTime: 85.3 seconds RetCode: 0 Status: OK