Package: AgiMicroRna Version: 2.60.0 Command: /Library/Frameworks/R.framework/Resources/bin/R CMD check --install=check:AgiMicroRna.install-out.txt --library=/Library/Frameworks/R.framework/Resources/library --no-vignettes --timings AgiMicroRna_2.60.0.tar.gz StartedAt: 2025-11-03 19:25:05 -0500 (Mon, 03 Nov 2025) EndedAt: 2025-11-03 19:32:13 -0500 (Mon, 03 Nov 2025) EllapsedTime: 428.2 seconds RetCode: 0 Status: WARNINGS CheckDir: AgiMicroRna.Rcheck Warnings: 1