Package: AWAggregator Version: 0.99.4 Command: /home/biocbuild/R/R/bin/R CMD check --install=check:AWAggregator.install-out.txt --library=/home/biocbuild/R/R/site-library --no-vignettes --timings AWAggregator_0.99.4.tar.gz StartedAt: 2025-10-17 06:07:29 -0000 (Fri, 17 Oct 2025) EndedAt: 2025-10-17 06:12:16 -0000 (Fri, 17 Oct 2025) EllapsedTime: 287.4 seconds RetCode: 0 Status: OK CheckDir: AWAggregator.Rcheck Warnings: 0