Package: AWAggregator Version: 0.99.4 Command: /home/biocbuild/bbs-3.22-bioc/R/bin/R CMD INSTALL AWAggregator StartedAt: 2025-10-19 15:11:22 -0400 (Sun, 19 Oct 2025) EndedAt: 2025-10-19 15:11:32 -0400 (Sun, 19 Oct 2025) EllapsedTime: 9.6 seconds RetCode: 0 Status: OK