Package: AWAggregator Version: 0.99.4 Command: /home/biocbuild/bbs-3.22-bioc/R/bin/R CMD check --install=check:AWAggregator.install-out.txt --library=/home/biocbuild/bbs-3.22-bioc/R/site-library --timings AWAggregator_0.99.4.tar.gz StartedAt: 2025-10-19 21:09:26 -0400 (Sun, 19 Oct 2025) EndedAt: 2025-10-19 21:17:32 -0400 (Sun, 19 Oct 2025) EllapsedTime: 486.8 seconds RetCode: 0 Status: OK CheckDir: AWAggregator.Rcheck Warnings: 0