Package: AWAggregator Version: 0.99.4 Command: /Library/Frameworks/R.framework/Resources/bin/R CMD INSTALL AWAggregator StartedAt: 2025-10-19 15:13:59 -0400 (Sun, 19 Oct 2025) EndedAt: 2025-10-19 15:14:35 -0400 (Sun, 19 Oct 2025) EllapsedTime: 35.9 seconds RetCode: 0 Status: OK