Package: AWAggregator Version: 0.99.4 Command: /Library/Frameworks/R.framework/Resources/bin/R CMD build --keep-empty-dirs --no-resave-data AWAggregator StartedAt: 2025-10-19 16:04:49 -0400 (Sun, 19 Oct 2025) EndedAt: 2025-10-19 16:15:38 -0400 (Sun, 19 Oct 2025) EllapsedTime: 648.4 seconds RetCode: 0 Status: OK PackageFile: AWAggregator_0.99.4.tar.gz PackageFileSize: 273.5 KiB