Package: AWAggregator Version: 0.99.4 Command: rm -rf AWAggregator.buildbin-libdir && mkdir AWAggregator.buildbin-libdir && /Users/biocbuild/BBS/utils/build-universal.sh AWAggregator_0.99.4.tar.gz /Library/Frameworks/R.framework/Resources/bin/R AWAggregator.buildbin-libdir StartedAt: 2025-10-20 02:56:55 -0400 (Mon, 20 Oct 2025) EndedAt: 2025-10-20 02:57:08 -0400 (Mon, 20 Oct 2025) EllapsedTime: 12.8 seconds RetCode: 0 Status: OK PackageFile: AWAggregator_0.99.4.tgz PackageFileSize: 304.3 KiB