Package: AWAggregator Version: 0.99.4 Command: /Library/Frameworks/R.framework/Resources/bin/R CMD INSTALL AWAggregator StartedAt: 2025-10-22 15:06:09 -0400 (Wed, 22 Oct 2025) EndedAt: 2025-10-22 15:06:15 -0400 (Wed, 22 Oct 2025) EllapsedTime: 6.2 seconds RetCode: 0 Status: OK