Package: AUCell Version: 1.31.0 Command: /home/biocbuild/bbs-3.22-bioc/R/bin/R CMD INSTALL AUCell StartedAt: 2025-10-13 15:31:49 -0400 (Mon, 13 Oct 2025) EndedAt: 2025-10-13 15:32:20 -0400 (Mon, 13 Oct 2025) EllapsedTime: 30.8 seconds RetCode: 0 Status: OK