Package: AUCell Version: 1.31.0 Command: /Library/Frameworks/R.framework/Resources/bin/R CMD INSTALL AUCell StartedAt: 2025-10-14 15:29:31 -0400 (Tue, 14 Oct 2025) EndedAt: 2025-10-14 15:30:16 -0400 (Tue, 14 Oct 2025) EllapsedTime: 45.1 seconds RetCode: 0 Status: OK