Package: AUCell Version: 1.31.0 Command: /Library/Frameworks/R.framework/Resources/bin/R CMD build --keep-empty-dirs --no-resave-data AUCell StartedAt: 2025-10-13 16:04:53 -0400 (Mon, 13 Oct 2025) EndedAt: 2025-10-13 16:07:07 -0400 (Mon, 13 Oct 2025) EllapsedTime: 133.7 seconds RetCode: 0 Status: OK PackageFile: AUCell_1.31.0.tar.gz PackageFileSize: 2.411 MiB