Package: AUCell Version: 1.31.0 Command: rm -rf AUCell.buildbin-libdir && mkdir AUCell.buildbin-libdir && /Users/biocbuild/BBS/utils/build-universal.sh AUCell_1.31.0.tar.gz /Library/Frameworks/R.framework/Resources/bin/R AUCell.buildbin-libdir StartedAt: 2025-10-14 02:31:49 -0400 (Tue, 14 Oct 2025) EndedAt: 2025-10-14 02:32:38 -0400 (Tue, 14 Oct 2025) EllapsedTime: 48.7 seconds RetCode: 0 Status: OK PackageFile: AUCell_1.31.0.tgz PackageFileSize: 2.809 MiB