Package: ATACseqQC Version: 1.33.1 Command: /Library/Frameworks/R.framework/Resources/bin/R CMD INSTALL ATACseqQC StartedAt: 2025-10-03 15:44:43 -0400 (Fri, 03 Oct 2025) EndedAt: 2025-10-03 15:46:02 -0400 (Fri, 03 Oct 2025) EllapsedTime: 79.6 seconds RetCode: 0 Status: OK