Package: ATACseqQC Version: 1.33.1 Command: /Library/Frameworks/R.framework/Resources/bin/R CMD check --install=check:ATACseqQC.install-out.txt --library=/Library/Frameworks/R.framework/Resources/library --no-vignettes --timings ATACseqQC_1.33.1.tar.gz StartedAt: 2025-10-03 19:49:16 -0400 (Fri, 03 Oct 2025) EndedAt: 2025-10-03 20:02:06 -0400 (Fri, 03 Oct 2025) EllapsedTime: 769.5 seconds RetCode: 0 Status: OK CheckDir: ATACseqQC.Rcheck Warnings: 0