Package: ATACseqQC Version: 1.33.1 Command: rm -rf ATACseqQC.buildbin-libdir && mkdir ATACseqQC.buildbin-libdir && /Users/biocbuild/BBS/utils/build-universal.sh ATACseqQC_1.33.1.tar.gz /Library/Frameworks/R.framework/Resources/bin/R ATACseqQC.buildbin-libdir StartedAt: 2025-10-04 01:53:13 -0400 (Sat, 04 Oct 2025) EndedAt: 2025-10-04 01:54:38 -0400 (Sat, 04 Oct 2025) EllapsedTime: 85.3 seconds RetCode: 0 Status: OK PackageFile: ATACseqQC_1.33.1.tgz PackageFileSize: 14.23 MiB