Package: ASpli Version: 2.19.0 Command: /home/biocbuild/R/R/bin/R CMD INSTALL ASpli StartedAt: 2025-10-16 22:11:06 -0000 (Thu, 16 Oct 2025) EndedAt: 2025-10-16 22:12:31 -0000 (Thu, 16 Oct 2025) EllapsedTime: 84.4 seconds RetCode: 0 Status: OK