Package: ASpli Version: 2.19.0 Command: /home/biocbuild/R/R/bin/R CMD build --keep-empty-dirs --no-resave-data ASpli StartedAt: 2025-10-16 23:02:42 -0000 (Thu, 16 Oct 2025) EndedAt: 2025-10-16 23:05:37 -0000 (Thu, 16 Oct 2025) EllapsedTime: 175.0 seconds RetCode: 0 Status: OK PackageFile: ASpli_2.19.0.tar.gz PackageFileSize: 4.763 MiB