Package: ASpli Version: 2.19.0 Command: F:\biocbuild\bbs-3.22-bioc\R\bin\R.exe CMD check --no-multiarch --install=check:ASpli.install-out.txt --library=F:\biocbuild\bbs-3.22-bioc\R\library --no-vignettes --timings ASpli_2.19.0.tar.gz StartedAt: 2025-08-15 00:34:40 -0400 (Fri, 15 Aug 2025) EndedAt: 2025-08-15 00:55:24 -0400 (Fri, 15 Aug 2025) EllapsedTime: 1244.2 seconds RetCode: 0 Status: WARNINGS CheckDir: ASpli.Rcheck Warnings: 1