Package: ASpli Version: 2.19.0 Command: chmod a+r ASpli -R && F:\biocbuild\bbs-3.22-bioc\R\bin\R.exe CMD build --keep-empty-dirs --no-resave-data ASpli StartedAt: 2025-08-14 18:29:28 -0400 (Thu, 14 Aug 2025) EndedAt: 2025-08-14 18:33:16 -0400 (Thu, 14 Aug 2025) EllapsedTime: 228.6 seconds RetCode: 0 Status: OK PackageFile: ASpli_2.19.0.tar.gz PackageFileSize: 4.78 MiB