Package: ASpli Version: 2.19.0 Command: rm -rf ASpli.buildbin-libdir && mkdir ASpli.buildbin-libdir && F:\biocbuild\bbs-3.22-bioc\R\bin\R.exe CMD INSTALL --build --library=ASpli.buildbin-libdir ASpli_2.19.0.tar.gz StartedAt: 2025-08-15 09:44:47 -0400 (Fri, 15 Aug 2025) EndedAt: 2025-08-15 09:47:09 -0400 (Fri, 15 Aug 2025) EllapsedTime: 142.5 seconds RetCode: 0 Status: OK PackageFile: ASpli_2.19.0.zip PackageFileSize: 3.209 MiB