Package: ASpli Version: 2.19.0 Command: /home/biocbuild/bbs-3.22-bioc/R/bin/R CMD INSTALL ASpli StartedAt: 2025-10-19 15:49:27 -0400 (Sun, 19 Oct 2025) EndedAt: 2025-10-19 15:50:32 -0400 (Sun, 19 Oct 2025) EllapsedTime: 64.8 seconds RetCode: 0 Status: OK