Package: ASpli Version: 2.19.0 Command: /home/biocbuild/bbs-3.22-bioc/R/bin/R CMD check --install=check:ASpli.install-out.txt --library=/home/biocbuild/bbs-3.22-bioc/R/site-library --timings ASpli_2.19.0.tar.gz StartedAt: 2025-10-19 21:05:43 -0400 (Sun, 19 Oct 2025) EndedAt: 2025-10-19 21:23:58 -0400 (Sun, 19 Oct 2025) EllapsedTime: 1094.9 seconds RetCode: 0 Status: WARNINGS CheckDir: ASpli.Rcheck Warnings: 1