Package: ASpli Version: 2.19.0 Command: /Library/Frameworks/R.framework/Resources/bin/R CMD INSTALL ASpli StartedAt: 2025-10-19 15:45:16 -0400 (Sun, 19 Oct 2025) EndedAt: 2025-10-19 15:46:44 -0400 (Sun, 19 Oct 2025) EllapsedTime: 88.0 seconds RetCode: 0 Status: OK