Package: ASpli Version: 2.19.0 Command: /Library/Frameworks/R.framework/Resources/bin/R CMD check --install=check:ASpli.install-out.txt --library=/Library/Frameworks/R.framework/Resources/library --no-vignettes --timings ASpli_2.19.0.tar.gz StartedAt: 2025-10-19 20:22:20 -0400 (Sun, 19 Oct 2025) EndedAt: 2025-10-19 20:42:19 -0400 (Sun, 19 Oct 2025) EllapsedTime: 1199.0 seconds RetCode: 0 Status: WARNINGS CheckDir: ASpli.Rcheck Warnings: 1