Package: ASpli Version: 2.19.0 Command: /Library/Frameworks/R.framework/Resources/bin/R CMD build --keep-empty-dirs --no-resave-data ASpli StartedAt: 2025-10-19 16:03:50 -0400 (Sun, 19 Oct 2025) EndedAt: 2025-10-19 16:06:52 -0400 (Sun, 19 Oct 2025) EllapsedTime: 182.0 seconds RetCode: 0 Status: OK PackageFile: ASpli_2.19.0.tar.gz PackageFileSize: 4.775 MiB