Package: ASpli Version: 2.19.0 Command: rm -rf ASpli.buildbin-libdir && mkdir ASpli.buildbin-libdir && /Users/biocbuild/BBS/utils/build-universal.sh ASpli_2.19.0.tar.gz /Library/Frameworks/R.framework/Resources/bin/R ASpli.buildbin-libdir StartedAt: 2025-10-20 02:56:45 -0400 (Mon, 20 Oct 2025) EndedAt: 2025-10-20 02:58:19 -0400 (Mon, 20 Oct 2025) EllapsedTime: 94.1 seconds RetCode: 0 Status: OK PackageFile: ASpli_2.19.0.tgz PackageFileSize: 3.199 MiB