Package: ASpli Version: 2.19.0 Command: /Library/Frameworks/R.framework/Resources/bin/R CMD build --keep-empty-dirs --no-resave-data ASpli StartedAt: 2025-10-19 15:38:39 -0400 (Sun, 19 Oct 2025) EndedAt: 2025-10-19 15:39:46 -0400 (Sun, 19 Oct 2025) EllapsedTime: 66.7 seconds RetCode: 0 Status: OK PackageFile: ASpli_2.19.0.tar.gz PackageFileSize: 4.778 MiB