Package: ASpli Version: 2.19.0 Maintainer: Ariel Chernomoretz MaintainerEmail: algo107 at gmail.com git_url: https://git.bioconductor.org/packages/ASpli git_branch: devel git_last_commit: cb7af3a git_last_commit_date: 2025-04-15 11:04:04 -0400 (Tue, 15 Apr 2025)