Package: ASURAT Version: 1.14.0 Command: /home/biocbuild/R/R/bin/R CMD build --keep-empty-dirs --no-resave-data ASURAT StartedAt: 2025-11-13 23:29:48 -0000 (Thu, 13 Nov 2025) EndedAt: 2025-11-14 00:09:48 -0000 (Fri, 14 Nov 2025) EllapsedTime: 2400.6 seconds RetCode: None Status: TIMEOUT PackageFile: None PackageFileSize: NA