Package: ASURAT Version: 1.14.0 Command: rm -rf ASURAT.buildbin-libdir && mkdir ASURAT.buildbin-libdir && /Users/biocbuild/BBS/utils/build-universal.sh ASURAT_1.14.0.tar.gz /Library/Frameworks/R.framework/Resources/bin/R ASURAT.buildbin-libdir StartedAt: 2025-11-10 23:11:30 -0500 (Mon, 10 Nov 2025) EndedAt: 2025-11-10 23:11:45 -0500 (Mon, 10 Nov 2025) EllapsedTime: 15.3 seconds RetCode: 0 Status: OK PackageFile: ASURAT_1.14.0.tgz PackageFileSize: 3.617 MiB