Package: ASSIGN Version: 1.45.0 Command: /home/biocbuild/R/R/bin/R CMD INSTALL ASSIGN StartedAt: 2025-10-16 21:42:52 -0000 (Thu, 16 Oct 2025) EndedAt: 2025-10-16 21:42:56 -0000 (Thu, 16 Oct 2025) EllapsedTime: 3.3 seconds RetCode: 0 Status: OK