Package: ASSIGN Version: 1.45.0 Command: /home/biocbuild/R/R/bin/R CMD check --install=check:ASSIGN.install-out.txt --library=/home/biocbuild/R/R/site-library --no-vignettes --timings ASSIGN_1.45.0.tar.gz StartedAt: 2025-10-17 06:05:04 -0000 (Fri, 17 Oct 2025) EndedAt: 2025-10-17 06:05:55 -0000 (Fri, 17 Oct 2025) EllapsedTime: 50.1 seconds RetCode: 0 Status: OK CheckDir: ASSIGN.Rcheck Warnings: 0